BEGIN:VCALENDAR
PRODID:-//eluceo/ical//2.0/EN
VERSION:2.0
CALSCALE:GREGORIAN
BEGIN:VEVENT
UID:bfe2481cc4ab5a321ea3cc6204981629
DTSTAMP:20260422T231756Z
SUMMARY:Besuch Glarnersteg Schwanden
DESCRIPTION:
URL:https://rotary-glarus.ch/it/agenda/show/51361
DTSTART;TZID=Europe/Zurich:20150622T113000
DTEND;TZID=Europe/Zurich:20150622T113000
LOCATION:Brauerei Gasthof Adler Schwanden
CATEGORIES:Rotary
END:VEVENT
BEGIN:VTIMEZONE
TZID:Europe/Zurich
BEGIN:DAYLIGHT
DTSTART:20150622T113000
TZNAME:CEST
TZOFFSETTO:+0200
TZOFFSETFROM:+0200
END:DAYLIGHT
END:VTIMEZONE
END:VCALENDAR
