BEGIN:VCALENDAR
PRODID:-//eluceo/ical//2.0/EN
VERSION:2.0
CALSCALE:GREGORIAN
BEGIN:VEVENT
UID:1f7341f0ee3ec82da6087a1fb4b162b1
DTSTAMP:20260425T102115Z
SUMMARY:Walensee Dinner - Partneranlass
DESCRIPTION:Bitte um Anmeldung
URL:https://rotary-glarus.ch/it/agenda/show/31293
DTSTART;TZID=Europe/Zurich:20130610T181500
DTEND;TZID=Europe/Zurich:20130610T181500
LOCATION:Seehus Quinten
CATEGORIES:Rotary
END:VEVENT
BEGIN:VTIMEZONE
TZID:Europe/Zurich
BEGIN:DAYLIGHT
DTSTART:20130610T181500
TZNAME:CEST
TZOFFSETTO:+0200
TZOFFSETFROM:+0200
END:DAYLIGHT
END:VTIMEZONE
END:VCALENDAR
