BEGIN:VCALENDAR
PRODID:-//eluceo/ical//2.0/EN
VERSION:2.0
CALSCALE:GREGORIAN
BEGIN:VEVENT
UID:c8143a22c9c8b8adbaf205db23ea7e76
DTSTAMP:20260423T091725Z
SUMMARY:Partneranlass Berghotel Mettmen "Wilddinner & Wasserkraft"
DESCRIPTION:Sito web: https://berghotel-mettmen.ch/\nRelatore/i: Leo Meier\
 , Leiter Produktion SN Energie\, Referent
URL:https://rotary-glarus.ch/it/agenda/show/132043
DTSTART;TZID=Europe/Zurich:20210927T180000
DTEND;TZID=Europe/Zurich:20210927T223000
LOCATION:BERGHOTEL METTMEN\, Mettmen 2 · 8762 Schwanden
CATEGORIES:Rotary
END:VEVENT
BEGIN:VTIMEZONE
TZID:Europe/Zurich
BEGIN:DAYLIGHT
DTSTART:20210927T180000
TZNAME:CEST
TZOFFSETTO:+0200
TZOFFSETFROM:+0200
END:DAYLIGHT
END:VTIMEZONE
END:VCALENDAR
