BEGIN:VCALENDAR
PRODID:-//eluceo/ical//2.0/EN
VERSION:2.0
CALSCALE:GREGORIAN
BEGIN:VEVENT
UID:f1c9eb1214b55e7cb19df85e32fe7993
DTSTAMP:20260425T132730Z
SUMMARY:Präsenzlunch 
DESCRIPTION:Für alle Mitglieder\, welche am Abendanlass mit unseren Urner-
 Freunden nicht dabei sein können.\n\nTelefonische Anmeldungen bitte an Fr
 au Rosmarie Leuenberger Hotel Glarnerhof\n\n055 645 75 75
URL:https://rotary-glarus.ch/it/agenda/show/104256
DTSTART;TZID=Europe/Zurich:20190826T114500
DTEND;TZID=Europe/Zurich:20190826T140000
LOCATION:Hotel Glarnerhof
CATEGORIES:Rotary
END:VEVENT
BEGIN:VTIMEZONE
TZID:Europe/Zurich
BEGIN:DAYLIGHT
DTSTART:20190826T114500
TZNAME:CEST
TZOFFSETTO:+0200
TZOFFSETFROM:+0200
END:DAYLIGHT
END:VTIMEZONE
END:VCALENDAR
