BEGIN:VCALENDAR
PRODID:-//eluceo/ical//2.0/EN
VERSION:2.0
CALSCALE:GREGORIAN
BEGIN:VEVENT
UID:253ecf6f18de964200d3ea90d42c7e0b
DTSTAMP:20260425T170139Z
SUMMARY:Zu Gast beim RC Bad Ragaz -  Referat: Zukunft - Matrix des Wandels 
 - neue Achtsamkeit\, neue Herausforderungen
DESCRIPTION:Sito web: https://www.zukunftsinstitut.de/menschen/roger-spindl
 er/\nRelatore/i: Roger Spindler\nAls Journalist und Leiter der Höheren Fa
 chschule für Medienwirtschaft und Medienmanagement an der Schule für Ges
 taltung Bern und Biel weiß er den Dingen kritisch auf den Grund zu gehen
URL:https://rotary-glarus.ch/it/agenda/show/103584
DTSTART;TZID=Europe/Zurich:20190812T190000
DTEND;TZID=Europe/Zurich:20190812T220000
LOCATION:Kursaal Bad Ragaz
CATEGORIES:Rotary
END:VEVENT
BEGIN:VTIMEZONE
TZID:Europe/Zurich
BEGIN:DAYLIGHT
DTSTART:20190812T190000
TZNAME:CEST
TZOFFSETTO:+0200
TZOFFSETFROM:+0200
END:DAYLIGHT
END:VTIMEZONE
END:VCALENDAR
