BEGIN:VCALENDAR
PRODID:-//eluceo/ical//2.0/EN
VERSION:2.0
CALSCALE:GREGORIAN
BEGIN:VEVENT
UID:6851ac63ae40505b0116a6ec5a88cdaf
DTSTAMP:20260425T113740Z
SUMMARY:62. Klausentreffen mit dem RC Uri (Partneranlass)
DESCRIPTION:17.20 Uhr Bahnhof Glarus: Der RC Glarus organisiert einen Taxid
 ienst zum Preis von CHF 25.00/Person (Bekanntgabe der Zusteigeorte nach Ei
 ngang der Anmeldungen)\n\n18.30 Uhr Apéro\, offeriert vom RC Uri\nDas Tri
 o „Echo vom Rüchä“ wird den Apéro mit passender Musik begleiten.\n\
 n19.00 Uhr ca. Nachtessen\n\nProgrammteil\n\nIm Hotel Klausenpasshöhe ste
 ht ein Neubau bevor. Wir nützen diese Gelegenheit und lassen uns aus erst
 er Hand durch die Präsidentin des Verwaltungsrates der Klausenpassbetrieb
 e\, Frau Barbara Merz Wipfli\, über den geplanten Bau und die Herausforde
 rungen informieren.\n\n\n \nMenu: - Salatbuffet\n\n- Schweinsgeschnetzelt
 es\, Nudeln und Gemüse\n\n- Dessertbuffet\nSito web: http://www.klausenpa
 sshohe.ch\nRelatore/i: Rot. Barbara Merz Wipfli\,\nVerwaltungspräsidentin
  der Klausenpass-Betriebe AG
URL:https://rotary-glarus.ch/it/agenda/show/103572
DTSTART;TZID=Europe/Zurich:20190826T183000
DTEND;TZID=Europe/Zurich:20190826T225900
LOCATION:Hotel Klausenpasshöhe
CATEGORIES:Rotary
END:VEVENT
BEGIN:VTIMEZONE
TZID:Europe/Zurich
BEGIN:DAYLIGHT
DTSTART:20190826T183000
TZNAME:CEST
TZOFFSETTO:+0200
TZOFFSETFROM:+0200
END:DAYLIGHT
END:VTIMEZONE
END:VCALENDAR
