BEGIN:VCALENDAR
PRODID:-//eluceo/ical//2.0/EN
VERSION:2.0
CALSCALE:GREGORIAN
BEGIN:VEVENT
UID:9263f00de97477d85d5d25347994eb5e
DTSTAMP:20260425T150940Z
SUMMARY:Energiestrategie 2050
DESCRIPTION:Relatore/i: Rot. Rudolf Zobrist\, RC Glarus
URL:https://rotary-glarus.ch/it/agenda/show/103571
DTSTART;TZID=Europe/Zurich:20190819T114500
DTEND;TZID=Europe/Zurich:20190819T140000
LOCATION:Hotel Glarnerhof
CATEGORIES:Rotary
END:VEVENT
BEGIN:VTIMEZONE
TZID:Europe/Zurich
BEGIN:DAYLIGHT
DTSTART:20190819T114500
TZNAME:CEST
TZOFFSETTO:+0200
TZOFFSETFROM:+0200
END:DAYLIGHT
END:VTIMEZONE
END:VCALENDAR
