BEGIN:VCALENDAR
PRODID:-//eluceo/ical//2.0/EN
VERSION:2.0
CALSCALE:GREGORIAN
BEGIN:VEVENT
UID:801b4249449aaa1adecaafa72cd1904f
DTSTAMP:20260425T154235Z
SUMMARY:Familienanlass: Lunch auf dem Bauernhof
DESCRIPTION:\nParkplatz direkt unter dem Hof oder beim Restaurant Rütihof 
 (gem. Bezeichnungen und Einweisung)\nSpielpatz beim Restaurant und auf dem
  Hof vorhanden\n\nMenu: Menü\n- Apero\n- Grillfleisch und Wurst mit\n  S
 alaten und Kartoffel-Gratin\n- Kleiner Dessert\n\n-  Vegi-Variante vorhan
 den\nRelatore/i: Jacqueline und Fritz Waldvogel heissen uns zum Lunch will
 kommen. \nReferat von Fritz Waldvogel \, Präsident Glarner Bauernverband\
 n"Glarner Landwirtschaft"
URL:https://rotary-glarus.ch/it/agenda/show/103569
DTSTART;TZID=Europe/Zurich:20190805T113000
DTEND;TZID=Europe/Zurich:20190805T140000
LOCATION:Rüti 3\, 8756 Mitlödi\, Achtung Waldstrasse über Leimen Grossr
 üti ist mit Fahrverbot belegt\, Offizielle Zufahrt via Schwändistrasse
CATEGORIES:Rotary
END:VEVENT
BEGIN:VTIMEZONE
TZID:Europe/Zurich
BEGIN:DAYLIGHT
DTSTART:20190805T113000
TZNAME:CEST
TZOFFSETTO:+0200
TZOFFSETFROM:+0200
END:DAYLIGHT
END:VTIMEZONE
END:VCALENDAR
