BEGIN:VCALENDAR
PRODID:-//eluceo/ical//2.0/EN
VERSION:2.0
CALSCALE:GREGORIAN
BEGIN:VEVENT
UID:03094065ed3dd4b65ebdc73897ca0c88
DTSTAMP:20260425T140540Z
SUMMARY:Intercity-Meeting im Klöntal
DESCRIPTION:Der Rotary Club Glarus lädt zum traditionellen Intercity Meeti
 ng im Klöntal ein.\n\nSpeziell heissen wir unsere rotarischen Freunde von
  nah und fern willkommen\n\nWir freuen uns\, wenn diverse Delegationen zu 
 Fuss ab 17.00 Uhr im Klöntal eintreffen und zum vom RC Glarus offerierten
  Apéro die ersten Kontakte knüpfen.\n\nDas Nachtessen mit dem traditione
 llen Glarner Landsgemeinde-Menü wird aufgelockert durch die Reiseberichte
  der Delegationen.\n\nWir freuen uns auf Ihre Anmeldungen entweder einzeln
  oder durch einen Club-Koordinator für die ganze Wandergruppe.\n\n \n\nI
 hr Kontakt für den 29. Juli 2019  Hans Jörg Riem 079 221 38 31 / rotary
 .riem@bluewin.ch\nSito web: https://www.vorauen.ch/
URL:https://rotary-glarus.ch/it/agenda/show/102386
DTSTART;TZID=Europe/Zurich:20190729T173000
DTEND;TZID=Europe/Zurich:20190729T220000
LOCATION:Hotel Vorauen Klöntal 
CATEGORIES:Rotary
END:VEVENT
BEGIN:VTIMEZONE
TZID:Europe/Zurich
BEGIN:DAYLIGHT
DTSTART:20190729T173000
TZNAME:CEST
TZOFFSETTO:+0200
TZOFFSETFROM:+0200
END:DAYLIGHT
END:VTIMEZONE
END:VCALENDAR
