BEGIN:VCALENDAR
PRODID:-//eluceo/ical//2.0/EN
VERSION:2.0
CALSCALE:GREGORIAN
BEGIN:VEVENT
UID:a440bc86353cb8bc22d41c09a4447854
DTSTAMP:20260421T103529Z
SUMMARY:Generalversammlung mit Amtsübergabe
DESCRIPTION:Menu: Die Programmiers M.Jenny und Roland Oeschger verabschiede
 n sich und danken für die rege Teilnahme!
URL:https://rotary-glarus.ch/fr/agenda/show/51995
DTSTART;TZID=Europe/Zurich:20150629T183000
DTEND;TZID=Europe/Zurich:20150629T183000
LOCATION:Hotel Glarnerhof
CATEGORIES:Rotary
END:VEVENT
BEGIN:VTIMEZONE
TZID:Europe/Zurich
BEGIN:DAYLIGHT
DTSTART:20150629T183000
TZNAME:CEST
TZOFFSETTO:+0200
TZOFFSETFROM:+0200
END:DAYLIGHT
END:VTIMEZONE
END:VCALENDAR
