BEGIN:VCALENDAR
PRODID:-//eluceo/ical//2.0/EN
VERSION:2.0
CALSCALE:GREGORIAN
BEGIN:VEVENT
UID:cafa1608a434b2fb844d49e29fdcd2f6
DTSTAMP:20260420T133552Z
SUMMARY:Klassifikationsvortrag Rot. Peter Roth
DESCRIPTION:
URL:https://rotary-glarus.ch/fr/agenda/show/50407
DTSTART;TZID=Europe/Zurich:20150608T114500
DTEND;TZID=Europe/Zurich:20150608T114500
LOCATION:Hotel Glarnerhof
CATEGORIES:Rotary
END:VEVENT
BEGIN:VTIMEZONE
TZID:Europe/Zurich
BEGIN:DAYLIGHT
DTSTART:20150608T114500
TZNAME:CEST
TZOFFSETTO:+0200
TZOFFSETFROM:+0200
END:DAYLIGHT
END:VTIMEZONE
END:VCALENDAR
