BEGIN:VCALENDAR
PRODID:-//eluceo/ical//2.0/EN
VERSION:2.0
CALSCALE:GREGORIAN
BEGIN:VEVENT
UID:6f8c3b35d77b27ad71d4d324d00dc00b
DTSTAMP:20260421T205535Z
SUMMARY:Child Aid Papua
DESCRIPTION:Site internet: https://www.lintharena.ch/\nConférencier(s): Jo
 nas MüllerGründer des Hilfswerks Child Aid PapuaEintritt frei ohne Anmel
 dung
URL:https://rotary-glarus.ch/fr/agenda/show/154242
DTSTART;TZID=Europe/Zurich:20230104T193000
DTEND;TZID=Europe/Zurich:20230104T220000
LOCATION:lintharena Näfels
CATEGORIES:Rotary
END:VEVENT
BEGIN:VTIMEZONE
TZID:Europe/Zurich
BEGIN:STANDARD
DTSTART:20230104T193000
TZNAME:CET
TZOFFSETTO:+0100
TZOFFSETFROM:+0100
END:STANDARD
END:VTIMEZONE
END:VCALENDAR
