BEGIN:VCALENDAR
PRODID:-//eluceo/ical//2.0/EN
VERSION:2.0
CALSCALE:GREGORIAN
BEGIN:VEVENT
UID:3bbb818c1a2898cbe6246cd748a6d9bd
DTSTAMP:20260422T061619Z
SUMMARY:Energie Netzwerkanlass "Die Energiestrategie 2050 im Schatten der E
 nergiekrise in Europa"
DESCRIPTION:Site internet: https://fabriktheater-schwanden.ch/Entstehung.ht
 ml\nConférencier(s): Input Referat 1\, Dr. Walter Steinmann \n\nInput Ref
 erat 2\, Lisa Hämmerli
URL:https://rotary-glarus.ch/fr/agenda/show/134869
DTSTART;TZID=Europe/Zurich:20220425T180000
DTEND;TZID=Europe/Zurich:20220425T220000
LOCATION:Fabriktheater\, Sernftalstrasse 33\, 8762 Schwanden
CATEGORIES:Rotary
END:VEVENT
BEGIN:VTIMEZONE
TZID:Europe/Zurich
BEGIN:DAYLIGHT
DTSTART:20220425T180000
TZNAME:CEST
TZOFFSETTO:+0200
TZOFFSETFROM:+0200
END:DAYLIGHT
END:VTIMEZONE
END:VCALENDAR
